BEGIN:VCALENDAR
VERSION:2.0
PRODID:-//hacksw/handcal//NONSGML v1.0//EN
CALSCALE:GREGORIAN
BEGIN:VEVENT
DTEND:20211120T200000Z
UID: 69e9023157512
DTSTAMP:20260422T121529Z
LOCATION:Denkmann Memorial Building
DESCRIPTION:Augustana College cello students will team up for a concert of cello quartets and cello choir music from different styles and time periods. Friends from the voice area will join in.\n&nbsp\;\n
URL;VALUE=URI:https://www.augustana.edu/about-us/events/2021/parenthesis-cellos
SUMMARY:A Parenthesis of Cellos
DTSTART:20211120T200000Z
END:VEVENT
END:VCALENDAR
