BEGIN:VCALENDAR
VERSION:2.0
PRODID:-//hacksw/handcal//NONSGML v1.0//EN
CALSCALE:GREGORIAN
BEGIN:VEVENT
DTEND:20200120T163000Z
UID: 69e83e5694e8b
DTSTAMP:20260421T221950Z
LOCATION:The Gerber Center for Student Life
DESCRIPTION:The Rev. Dwight L. Ford will give the&nbsp\;Martin Luther King\, Jr. Day keynote address on campus.\n\nRev. Ford is an author&nbsp\;and public theologian. He hold a B.A. from Western Illinois University\, with a concentration in business management and leadership\, and a master of divinity degree from Harvard University. His research centers&nbsp\;on the Greek New Testament\, public theology of the Civil Rights era (1954-1968)\, community economic development\, and the agency of the African American Church. &nbsp\; &nbsp\;\n\nRev. Ford is the pastor of Grace City Live Church in Rock Island.\n\n&nbsp\;\n
URL;VALUE=URI:https://www.augustana.edu/about-us/events/2019/martin-luther-king-jr-address-rev-dwight-ford
SUMMARY:Martin Luther King\, Jr. address: Rev. Dwight Ford
DTSTART:20200120T163000Z
END:VEVENT
END:VCALENDAR
