BEGIN:VCALENDAR
VERSION:2.0
PRODID:-//hacksw/handcal//NONSGML v1.0//EN
CALSCALE:GREGORIAN
BEGIN:VEVENT
DTEND:20191228T220000Z
UID: 69e83b25b42cf
DTSTAMP:20260421T220613Z
LOCATION:Centennial Hall
DESCRIPTION:WQAD News 8 will air a rebroadcast of Christmas at Augustana.\n\nThe performance took place Dec. 7 at Centennial Hall.\n
URL;VALUE=URI:https://www.augustana.edu/about-us/events/2019/christmas-augustana-broadcast2
SUMMARY:Christmas at Augustana broadcast
DTSTART:20191228T220000Z
END:VEVENT
END:VCALENDAR
