BEGIN:VCALENDAR
VERSION:2.0
PRODID:-//hacksw/handcal//NONSGML v1.0//EN
CALSCALE:GREGORIAN
BEGIN:VEVENT
DTEND:20191225T150000Z
UID: 69e83b2540963
DTSTAMP:20260421T220613Z
LOCATION:Centennial Hall
DESCRIPTION:WQAD News 8 will air a rebroadcast of Christmas at Augustana on MY TV 8.3.\n\nThe performance took place Dec. 7 at Centennial Hall.\n\nA second rebroadcast will be offered from 4-5:30 p.m. Dec. 28 on Channel 8.\n
URL;VALUE=URI:https://www.augustana.edu/about-us/events/2019/christmas-augustana-broadcast
SUMMARY:Christmas at Augustana broadcast
DTSTART:20191225T150000Z
END:VEVENT
END:VCALENDAR
