BEGIN:VCALENDAR
VERSION:2.0
PRODID:-//hacksw/handcal//NONSGML v1.0//EN
CALSCALE:GREGORIAN
BEGIN:VEVENT
DTEND:20191201T210000Z
UID: 69e8482623315
DTSTAMP:20260421T230142Z
LOCATION:Butterworth Center
DESCRIPTION:The Augustana College Tuba/Euphonium Quartet will be among the groups providing music at the annual 19th Century Christmas celebration at the historic Butterworth Center and Deere-Wiman House in Moline.\n\nThe quartet will perform at 3 p.m. at Butterworth Center.\n\nThe event will be noon to 5 p.m. with cookies\, self-guided tours of the Deere family homes\, music and children's activities.\n
URL;VALUE=URI:https://www.augustana.edu/about-us/events/2019/augustana-tubaeuphonium-quartet
SUMMARY:Augustana Tuba/Euphonium Quartet
DTSTART:20191201T210000Z
END:VEVENT
END:VCALENDAR
