BEGIN:VCALENDAR
VERSION:2.0
PRODID:-//hacksw/handcal//NONSGML v1.0//EN
CALSCALE:GREGORIAN
BEGIN:VEVENT
DTEND:20191122T220000Z
UID: 69e84858971c0
DTSTAMP:20260421T230232Z
LOCATION:Hanson Hall of Science
DESCRIPTION:The Augustana Physics and Engineering Society will hold its annual open house for all ages from 4-7 p.m. There will be&nbsp\;fun and interactive demonstrations that include liquid nitrogen\, IR cams\, engineering projects&nbsp\;and more.\n\nThis is an&nbsp\;opportunity for children to try out some hands-on activities\n\nMembers in the lobby of Hanson Hall will&nbsp\;direct guests to each activity.\n&nbsp\;\n
URL;VALUE=URI:https://www.augustana.edu/about-us/events/2019/physics-and-engineering-open-house
SUMMARY:Physics and Engineering open house
DTSTART:20191122T220000Z
END:VEVENT
END:VCALENDAR
