BEGIN:VCALENDAR
VERSION:2.0
PRODID:-//hacksw/handcal//NONSGML v1.0//EN
CALSCALE:GREGORIAN
BEGIN:VEVENT
DTEND:20191122T230000Z
UID: 69e84a8521ace
DTSTAMP:20260421T231149Z
LOCATION:Centennial Hall
DESCRIPTION:The Augustana Teaching Museum of Art will hold an opening reception for an exhibit of&nbsp\;works from the permanent collection with the theme of whimsy.\n\nThere will be a curator talk at 6 p.m. Refreshments will be served.\n\nThe exhibit includes&nbsp\;an eclectic mix of cultures and media including paintings\, drawings\, ceramics and tapestries. There are works by&nbsp\;Warhol\, Matisse\, Chagall and Calder\, plus Inuit and Native American art\, inkwells\, contemporary Swedish art\, and mid-century painting.\n
URL;VALUE=URI:https://www.augustana.edu/about-us/events/2019/art-exhibition-opening-and-talk-whimsy
SUMMARY:Art exhibition opening and talk: Whimsy
DTSTART:20191122T230000Z
END:VEVENT
END:VCALENDAR
