BEGIN:VCALENDAR
VERSION:2.0
PRODID:-//hacksw/handcal//NONSGML v1.0//EN
CALSCALE:GREGORIAN
BEGIN:VEVENT
DTEND:20191122T000000Z
UID: 69e848539b107
DTSTAMP:20260421T230227Z
LOCATION:Figge Art Museum
DESCRIPTION:The documentary "Paris to Pittsburgh\,"&nbsp\;will be shown followed by a panel discussion. In the film\, Pittsburgh Mayor William Peduoto and&nbsp\;other leaders across the country talk about threats their communities face and what they are doing to find solutions.\n\nLocal panelists will include Dr. Robert Wegronowitz\,&nbsp\;visiting professor at Augustana College\, Rock Island\, in sociology\, anthropology and social welfare\;&nbsp\;Ray Wolf\, science and operations officer for the National Weather Service\, Davenport\; and Eric Sorensen\, senior meteorologist with WQAD-TV\, Ch. 8.\n\nThe screening is the local event affiliated with&nbsp\;a world-wide observance Nov. 21 called "24 Hours of Climate Reality\," sponsored by the Climate Reality Project.\n
URL;VALUE=URI:https://www.augustana.edu/about-us/events/2019/documentary-paris-pittsburgh
SUMMARY:Documentary: 'Paris to Pittsburgh'
DTSTART:20191122T000000Z
END:VEVENT
END:VCALENDAR
