BEGIN:VCALENDAR
VERSION:2.0
PRODID:-//hacksw/handcal//NONSGML v1.0//EN
CALSCALE:GREGORIAN
BEGIN:VEVENT
DTEND:20200304T171000Z
UID: 69e84a8482aeb
DTSTAMP:20260421T231148Z
LOCATION:Carlsson Evald Hall
DESCRIPTION:Dr. Bobby Wengronowitz\, assistant professor of sociology\, will present the Tea Talk: "Valorizing the marginalized: The perils and possibilities of climate activist capital."\n\nDescription: "Drawing on observant participation\, interviews\, and surveys\, I present findings from a climate justice campaign against a natural gas pipeline in the northeast USA. This research suggests that some activists valorize the marginalized\, that is\, they celebrate the dominated in the space of positions. This means — all else equal — that typically disadvantaged individuals are advantaged while typically advantaged individuals are disadvantaged.\n\n"For example\, women and gender non-binary identifying individuals and gay and queer folks are celebrated. They are understood to appreciate oppression\, disadvantage\, and so on\, such that they are better activists (or at least could be). This flipped hierarchy garners them the symbolic form of what I call Climate Activist Capital: status-enhancing recognition that has value within the climate activist social space."\n
URL;VALUE=URI:https://www.augustana.edu/about-us/events/2019/perils-and-possibilities-climate-activist-capital
SUMMARY:The perils and possibilities of climate activist capital
DTSTART:20200304T171000Z
END:VEVENT
END:VCALENDAR
