BEGIN:VCALENDAR
VERSION:2.0
PRODID:-//hacksw/handcal//NONSGML v1.0//EN
CALSCALE:GREGORIAN
BEGIN:VEVENT
DTEND:20200219T171000Z
UID: 69e84a8b6b331
DTSTAMP:20260421T231155Z
LOCATION:Carlsson Evald Hall
DESCRIPTION:Dr. Dawn Farmer\, assistant professor of music\, will present the first Tea Talk of 2020\,&nbsp\;"Women on the Podium: When Females Lead."\n\nNow entering its 11th year\, the Tea Talks lecture series features faculty speakers on a range of topics. The series is sponsored by the Women\, Gender\, and Sexuality Studies program.\n\nAll lectures are held from 11:10 a.m.-12:15 p.m. Wednesdays in Carlsson Evald Hall in the Great Hall on the first floor. Lectures are free and open to the public as well as the campus community. Refreshments are served.\n\nDescription: "In contemporary instrumental ensembles\, male conductors far outnumber female conductors. The more professional the ensemble level\, the less likely it is that a woman conductor will be seen in front of such groups. This session examines this phenomenon and will present historical roots\, statistical data\, and qualitative interview data regarding women on the podium and as conductors.&nbsp\;\n\n"This will be of interest to any woman planning to go into a field that is male-dominated\, female musicians\, female educators\, and those who find interest in gender studies."\n
URL;VALUE=URI:https://www.augustana.edu/about-us/events/2019/tea-talk-women-podium-when-females-lead
SUMMARY:Tea Talk: Women on the Podium: When Females Lead
DTSTART:20200219T171000Z
END:VEVENT
END:VCALENDAR
