BEGIN:VCALENDAR
VERSION:2.0
PRODID:-//hacksw/handcal//NONSGML v1.0//EN
CALSCALE:GREGORIAN
BEGIN:VEVENT
DTEND:20170428T170000Z
UID: 69e941b5506d4
DTSTAMP:20260422T164629Z
LOCATION:Augustana Center for Visual Culture
DESCRIPTION:This exhibition features the Senior Inquiry projects of the Augustana College studio art and graphic design majors of the Class of 2017.\n\nThe exhibition runs through May 13.&nbsp\;\n\nArtist talks start at 10:30 a.m.&nbsp\;May 3&nbsp\;(part of Celebration of Learning).\n\nA closing reception will be held from&nbsp\;12:45-2 p.m. May 21\n\nThe Augustana Teaching Museum of Art is open to the public from noon-4 p.m. Friday and Saturday&nbsp\;when school is in session.\n\nStudents artists in the exhibition are:\n\n\n	Jorge Ambriz\, Spanish and graphic design\n	Paris Edwards\, graphic design\n	Chloe Gale\, business admininstration/marketing and art \n	Giselle Gaztambide\, art and psychology\n	Emily Kathleen Grooms\, art and psychology\n	Ginger Hamilton\, business admininstration/maketing and art \n	Olivia Havens\, art and psychology\n	McKee Jackson\, art and psychology \n	Emily Johnson\, graphic design \n	Jordan Peklo\, applied mathematics and art\n	Henry Roderick\, art and graphic design \n	Glen Williamson\, graphic design \n\n
URL;VALUE=URI:https://www.augustana.edu/about-us/events/2016/senior-art-exhibition-opens
SUMMARY:Senior Art Exhibition opens
DTSTART:20170428T170000Z
END:VEVENT
END:VCALENDAR
