BEGIN:VCALENDAR
VERSION:2.0
PRODID:-//hacksw/handcal//NONSGML v1.0//EN
CALSCALE:GREGORIAN
BEGIN:VEVENT
DTEND:20220515T000000Z
UID: 69e7c4cfa96cf
DTSTAMP:20260421T134119Z
LOCATION:Centennial Hall
DESCRIPTION:The Augustana Symphonic Band performs music written for the wind band.&nbsp\;\n\nEffective May 9: Everyone — vaccinated or not — is required to mask indoors in all public spaces\, including hallways and when visiting campus offices.\n
URL;VALUE=URI:https://www.augustana.edu/about-us/events/2022/augustana-percussion-ensemble-concert
SUMMARY:Augustana Symphonic Band
DTSTART:20220515T000000Z
END:VEVENT
END:VCALENDAR
