BEGIN:VCALENDAR
VERSION:2.0
PRODID:-//hacksw/handcal//NONSGML v1.0//EN
CALSCALE:GREGORIAN
BEGIN:VEVENT
DTEND:20230430T000000Z
UID: 69ed0e29bf7c2
DTSTAMP:20260425T135537Z
LOCATION:Brunner Theatre Center
DESCRIPTION:Students will perform solos and ensemble numbers\, everything from pop\, and a cappella to musical theater to jazz.&nbsp\;\n
URL;VALUE=URI:https://www.augustana.edu/about-us/events/2023/cabaret-night
SUMMARY:Cabaret Night
DTSTART:20230430T000000Z
END:VEVENT
END:VCALENDAR
