BEGIN:VCALENDAR
VERSION:2.0
PRODID:-//hacksw/handcal//NONSGML v1.0//EN
CALSCALE:GREGORIAN
BEGIN:VEVENT
DTEND:20220410T210000Z
UID: 69ed0e2a1d622
DTSTAMP:20260425T135538Z
LOCATION:Bahls Campus Leadership Center
DESCRIPTION:The Augustana Chamber Singers will perform an all-vocal jazz program.&nbsp\;Select members of the Ascension Ringers will play selections from traditional American spirituals. &nbsp\;\n
URL;VALUE=URI:https://www.augustana.edu/about-us/events/2022/augustana-chamber-singers-concert
SUMMARY:Augustana Chamber Singers and Ascension Ringers Concert
DTSTART:20220410T210000Z
END:VEVENT
END:VCALENDAR
