BEGIN:VCALENDAR
VERSION:2.0
PRODID:-//hacksw/handcal//NONSGML v1.0//EN
CALSCALE:GREGORIAN
BEGIN:VEVENT
DTEND:20191116T013000Z
UID: 69e8dc2e1d409
DTSTAMP:20260422T093318Z
LOCATION:Denkmann Memorial Building
DESCRIPTION:Evan Sammons&nbsp\;will play a recital of classical and contemporary saxophone works.\n\nSammons is&nbsp\;a senior from Geneseo\, Ill.\,&nbsp\;majoring in music.\n
URL;VALUE=URI:https://www.augustana.edu/about-us/events/2019/student-recital-evan-sammons-saxophone
SUMMARY:Student recital: Evan Sammons\, saxophone
DTSTART:20191116T013000Z
END:VEVENT
END:VCALENDAR
