BEGIN:VCALENDAR
VERSION:2.0
PRODID:-//hacksw/handcal//NONSGML v1.0//EN
CALSCALE:GREGORIAN
BEGIN:VEVENT
DTEND:20191106T013000Z
UID: 69e84d816f8a7
DTSTAMP:20260421T232433Z
LOCATION:Hanson Hall of Science
DESCRIPTION:Benjamin McCready ’06\, assistant city administrator and director of administrative services for the city of Geneva\, Ill.\, will talk local government\, trends and policies.\n\nHe is responsible for oversight of Geneva’s human resource\, finance\, and IT functions. He discovered his passion for local government while attending Augustana and went on to earn a master of public administration from Northern Illinois University.\n\nIn addition to his work at Geneva\, he’s gained experience taking on diverse assignments while serving communities in Illinois\, Indiana and Oregon.\n
URL;VALUE=URI:https://www.augustana.edu/about-us/events/2019/demystifying-local-government
SUMMARY:Demystifying Local Government
DTSTART:20191106T013000Z
END:VEVENT
END:VCALENDAR
