BEGIN:VCALENDAR
VERSION:2.0
PRODID:-//hacksw/handcal//NONSGML v1.0//EN
CALSCALE:GREGORIAN
BEGIN:VEVENT
DTEND:20200311T220000Z
UID: 69e85c4b0d738
DTSTAMP:20260422T002739Z
LOCATION:Thorson-Lucken Field
DESCRIPTION:The women's lacrosse team will play&nbsp\;against Loras College at home.\n
URL;VALUE=URI:https://www.augustana.edu/about-us/events/2019/womens-lacrosse-vs-loras
SUMMARY:Women's lacrosse vs. Loras
DTSTART:20200311T220000Z
END:VEVENT
END:VCALENDAR
