BEGIN:VCALENDAR
VERSION:2.0
PRODID:-//hacksw/handcal//NONSGML v1.0//EN
CALSCALE:GREGORIAN
BEGIN:VEVENT
DTEND:20200229T230000Z
UID: 69e85c74318de
DTSTAMP:20260422T002820Z
LOCATION:Thorson-Lucken Field
DESCRIPTION:The women's lacrosse team will go against Kalamazoo College in the first home game of the season.\n
URL;VALUE=URI:https://www.augustana.edu/about-us/events/2019/womens-lacrosse-vs-kalamazoo
SUMMARY:Women's lacrosse vs. Kalamazoo
DTSTART:20200229T230000Z
END:VEVENT
END:VCALENDAR
