BEGIN:VCALENDAR
VERSION:2.0
PRODID:-//hacksw/handcal//NONSGML v1.0//EN
CALSCALE:GREGORIAN
BEGIN:VEVENT
DTEND:20191205T010000Z
UID: 69e8516273d66
DTSTAMP:20260421T234106Z
LOCATION:Hanson Hall of Science
DESCRIPTION:As part of its 25th annual Hispanic Film Festival\, Augustana College offers a screening of&nbsp\;Roma.\n\nMexican director Alfonso Cuarón won a Best Director Oscar for this 2018 drama about a year in the life of a middle-class family in Mexico City in the early 1970s.\n\nThe film follows the life of the families indigenous housekeeper\, and is a semi-autobiographical take on Cuarón's upbringing in the Colonia Roma neighborhood of Mexico City.\n\n“Roma” also was nominated for an Academy Awards for Best Motion Picture and Best Screen Play.\n\nThe film runs two hours\, 15 minutes\, and is rated R.\n
URL;VALUE=URI:https://www.augustana.edu/about-us/events/2019/hispanic-film-festival-roma
SUMMARY:Hispanic Film Festival: Roma
DTSTART:20191205T010000Z
END:VEVENT
END:VCALENDAR
