BEGIN:VCALENDAR
VERSION:2.0
PRODID:-//hacksw/handcal//NONSGML v1.0//EN
CALSCALE:GREGORIAN
BEGIN:VEVENT
DTEND:20191031T000000Z
UID: 69e85ce5d019e
DTSTAMP:20260422T003013Z
LOCATION:Hanson Hall of Science
DESCRIPTION:As part of its 25th annual Hispanic Film Festival\, Augustana College offers a screening of "Los Pájaros del Verano" (Birds of Passage).\n\nThis 2018 drama is based on real events that took place in Colombia. “Birds of Passage” won best film at the Los Cabos International Film Festival and the Havana Film Festival.\n\nIMDB description: During the marijuana bonanza\, a violent decade that saw the origins of drug trafficking in Colombia\, Rapayet and his indigenous family get involved in a war to control the business that ends up destroying their lives and their culture.\n\nThe unrated film runs just over two hours.\n
URL;VALUE=URI:https://www.augustana.edu/about-us/events/2019/hispanic-film-festival-birds-passage
SUMMARY:Hispanic Film Festival: 'Birds of Passage'
DTSTART:20191031T000000Z
END:VEVENT
END:VCALENDAR
