BEGIN:VCALENDAR
VERSION:2.0
PRODID:-//hacksw/handcal//NONSGML v1.0//EN
CALSCALE:GREGORIAN
BEGIN:VEVENT
DTEND:20191025T230000Z
UID: 69e73d369c13d
DTSTAMP:20260421T040246Z
LOCATION:Bucktown Center for the Arts
DESCRIPTION:Corrine Smith\, adjunct assistant professor of art\, will exhibit her mixed media work at the at Bucktown Center for the Arts\, Davenport\, October-November.\n\nThe opening reception is October 25th\, 6-9 p.m.\n
URL;VALUE=URI:https://www.augustana.edu/about-us/events/2019/opening-reception-corrine-smith
SUMMARY:Opening reception: Corrine Smith
DTSTART:20191025T230000Z
END:VEVENT
END:VCALENDAR
