BEGIN:VCALENDAR
VERSION:2.0
PRODID:-//hacksw/handcal//NONSGML v1.0//EN
CALSCALE:GREGORIAN
BEGIN:VEVENT
DTEND:20191107T013000Z
UID: 69e5162c40775
DTSTAMP:20260419T125140Z
LOCATION:Olin Center for Educational Technology
DESCRIPTION:The Augustana Center for the Study of Ethics and the Augustana&nbsp\;Institute for Leadership and Service will host "An Evening with Cheri Bustos."\n\nU.S. Rep. Cheri Bustos will give an update&nbsp\;on what's happening in Washington\, D.C.\, and respond to questions.\n\nNow in her fourth term\, she represents the Illinois 17th District\, which includes Rock Island County. This year she assumed a leadership position among House Democrats as chair of the Democratic Congressional Campaign Committee.\n\nRep. Bustos is a former journalist and health-care executive.\n&nbsp\;\n
URL;VALUE=URI:https://www.augustana.edu/about-us/events/2019/evening-rep-cheri-bustos
SUMMARY:An Evening with Rep. Cheri Bustos
DTSTART:20191107T013000Z
END:VEVENT
END:VCALENDAR
