BEGIN:VCALENDAR
VERSION:2.0
PRODID:-//hacksw/handcal//NONSGML v1.0//EN
CALSCALE:GREGORIAN
BEGIN:VEVENT
DTEND:20191006T000000Z
UID: 69e74faebc97a
DTSTAMP:20260421T052134Z
LOCATION:
DESCRIPTION:All students are invited to come see Heywire induct their 8 new members into an improv show dubbed Newbiewire.&nbsp\;\n\nHeywire is Augustana's improv group on campus. All shows are improvised and based on suggestions from the audience.\n
URL;VALUE=URI:https://www.augustana.edu/about-us/events/2019/heywire-newbiewire
SUMMARY:Heywire — Newbiewire
DTSTART:20191006T000000Z
END:VEVENT
END:VCALENDAR
