BEGIN:VCALENDAR
VERSION:2.0
PRODID:-//hacksw/handcal//NONSGML v1.0//EN
CALSCALE:GREGORIAN
BEGIN:VEVENT
DTEND:20200206T010000Z
UID: 69e84f8e41bfa
DTSTAMP:20260421T233318Z
LOCATION:Carver P.E. Center
DESCRIPTION:The women's basketball team will take on Wheaton College at home.\n
URL;VALUE=URI:https://www.augustana.edu/about-us/events/2019/womens-basketball-vs-wheaton
SUMMARY:Women's basketball vs. Wheaton
DTSTART:20200206T010000Z
END:VEVENT
END:VCALENDAR
