BEGIN:VCALENDAR
VERSION:2.0
PRODID:-//hacksw/handcal//NONSGML v1.0//EN
CALSCALE:GREGORIAN
BEGIN:VEVENT
DTEND:20200123T010000Z
UID: 69e8513603ba9
DTSTAMP:20260421T234022Z
LOCATION:Carver P.E. Center
DESCRIPTION:The women's basketball team will match up against North Central College&nbsp\;at home.\n
URL;VALUE=URI:https://www.augustana.edu/about-us/events/2019/womens-basketball-vs-north-central
SUMMARY:Women's basketball vs. North Central
DTSTART:20200123T010000Z
END:VEVENT
END:VCALENDAR
