BEGIN:VCALENDAR
VERSION:2.0
PRODID:-//hacksw/handcal//NONSGML v1.0//EN
CALSCALE:GREGORIAN
BEGIN:VEVENT
DTEND:20200109T010000Z
UID: 69e85162e6385
DTSTAMP:20260421T234106Z
LOCATION:Carver P.E. Center
DESCRIPTION:The women's basketball team will match up against Elmhurst College&nbsp\;at home.\n
URL;VALUE=URI:https://www.augustana.edu/about-us/events/2019/womens-basketball-vs-elmhurst
SUMMARY:Women's basketball vs. Elmhurst
DTSTART:20200109T010000Z
END:VEVENT
END:VCALENDAR
