BEGIN:VCALENDAR
VERSION:2.0
PRODID:-//hacksw/handcal//NONSGML v1.0//EN
CALSCALE:GREGORIAN
BEGIN:VEVENT
DTEND:20191231T010000Z
UID: 69e8516d77667
DTSTAMP:20260421T234117Z
LOCATION:Carver P.E. Center
DESCRIPTION:The women's basketball team will match up against Coe College&nbsp\;at home.\n
URL;VALUE=URI:https://www.augustana.edu/about-us/events/2019/womens-basketball-vs-coe
SUMMARY:Women's basketball vs. Coe
DTSTART:20191231T010000Z
END:VEVENT
END:VCALENDAR
