BEGIN:VCALENDAR
VERSION:2.0
PRODID:-//hacksw/handcal//NONSGML v1.0//EN
CALSCALE:GREGORIAN
BEGIN:VEVENT
DTEND:20191130T190000Z
UID: 69e84f943d328
DTSTAMP:20260421T233324Z
LOCATION:Carver P.E. Center
DESCRIPTION:The Augustana women's basketball team will play&nbsp\;Webster University at home.\n\nThe Vikings improved to 2-4 on the season after beating&nbsp\;Dubuque last week.\n
URL;VALUE=URI:https://www.augustana.edu/about-us/events/2019/womens-basketball-vs-webster
SUMMARY:Women's basketball vs. Webster
DTSTART:20191130T190000Z
END:VEVENT
END:VCALENDAR
