BEGIN:VCALENDAR
VERSION:2.0
PRODID:-//hacksw/handcal//NONSGML v1.0//EN
CALSCALE:GREGORIAN
BEGIN:VEVENT
DTEND:20191123T230000Z
UID: 69e851a6759e4
DTSTAMP:20260421T234214Z
LOCATION:Carver P.E. Center
DESCRIPTION:The women's basketball team will go against University of Dubuque at home.\n
URL;VALUE=URI:https://www.augustana.edu/about-us/events/2019/womens-basketball-vs-dubuque
SUMMARY:Women's basketball vs. Dubuque
DTSTART:20191123T230000Z
END:VEVENT
END:VCALENDAR
