BEGIN:VCALENDAR
VERSION:2.0
PRODID:-//hacksw/handcal//NONSGML v1.0//EN
CALSCALE:GREGORIAN
BEGIN:VEVENT
DTEND:20210131T010000Z
UID: 69e84f747038a
DTSTAMP:20260421T233252Z
LOCATION:Carver P.E. Center
DESCRIPTION:The men's basketball team will take on the North Central College Cardinals.\n\nDue to COVID-19 precautions\, no spectators will be allowed. However\, all home games will be livestreamed.\n\nWatch the game\n
URL;VALUE=URI:https://www.augustana.edu/about-us/events/2019/mens-basketball-vs-north-central
SUMMARY:Men's basketball vs. North Central
DTSTART:20210131T010000Z
END:VEVENT
END:VCALENDAR
