BEGIN:VCALENDAR
VERSION:2.0
PRODID:-//hacksw/handcal//NONSGML v1.0//EN
CALSCALE:GREGORIAN
BEGIN:VEVENT
DTEND:20200130T010000Z
UID: 69e85d0620042
DTSTAMP:20260422T003046Z
LOCATION:Carver P.E. Center
DESCRIPTION:The men's basketball team will play fourth-ranked Elmhurst College.\n\n&nbsp\;Augustana weathered a rally by Carroll University Saturday\, getting game highs of 26 points and nine rebounds from Pierson Wofford to hold off the Pioneers 69-65 at Van Male Field House. The victory lifted Coach Grey Giovanine's outfit to 12-6 on the season and 6-3 in the CCIW\,\n&nbsp\;\n
URL;VALUE=URI:https://www.augustana.edu/about-us/events/2019/mens-basketball-vs-elmhurst
SUMMARY:Men's basketball vs. Elmhurst
DTSTART:20200130T010000Z
END:VEVENT
END:VCALENDAR
