BEGIN:VCALENDAR
VERSION:2.0
PRODID:-//hacksw/handcal//NONSGML v1.0//EN
CALSCALE:GREGORIAN
BEGIN:VEVENT
DTEND:20200116T010000Z
UID: 69e85ca4917c3
DTSTAMP:20260422T002908Z
LOCATION:Carver P.E. Center
DESCRIPTION:Augustana's men's basketball team will return to Carver Center for the first time in a month to host Wheaton College.\n\nAugustana shot .667 from the field in the first half last Sunday against Millikin and rolled to an 83-58 win. The squad improved to 9-5 on the season and 3-2 in the College Conference of Illinois and Wisconsin.\n
URL;VALUE=URI:https://www.augustana.edu/about-us/events/2019/mens-basketball-vs-wheaton
SUMMARY:Men's basketball vs. Wheaton
DTSTART:20200116T010000Z
END:VEVENT
END:VCALENDAR
