BEGIN:VCALENDAR
VERSION:2.0
PRODID:-//hacksw/handcal//NONSGML v1.0//EN
CALSCALE:GREGORIAN
BEGIN:VEVENT
DTEND:20191213T010000Z
UID: 69e85cc243b9c
DTSTAMP:20260422T002938Z
LOCATION:Carver P.E. Center
DESCRIPTION:The men's basketball team will play&nbsp\;the 3-3 MacMurray College Highlanders.\n\n&nbsp\;Augustana scored the first four points of overtime&nbsp\;and held on for a 65-63 win over Carroll in the Vikings' CCIW opener at Carver Center Dec. 7. The victory was the 500th in the collegiate coaching career of Grey Giovanine and moved Augustana to 5-2 overall and 1-0 in the league.&nbsp\;\n
URL;VALUE=URI:https://www.augustana.edu/about-us/events/2019/mens-basketball-vs-macmurray
SUMMARY:Men's basketball vs. MacMurray
DTSTART:20191213T010000Z
END:VEVENT
END:VCALENDAR
