BEGIN:VCALENDAR
VERSION:2.0
PRODID:-//hacksw/handcal//NONSGML v1.0//EN
CALSCALE:GREGORIAN
BEGIN:VEVENT
DTEND:20191127T010000Z
UID: 69e85d2dc28e0
DTSTAMP:20260422T003125Z
LOCATION:Carver P.E. Center
DESCRIPTION:The&nbsp\; Augustana men's basketball team will take on the University of Wisconsin-Whitewater at home.\n\nThe Vikings are 3-1 on the year after defeating Loras last week.\n
URL;VALUE=URI:https://www.augustana.edu/about-us/events/2019/mens-basketball-vs-uw-whitewater
SUMMARY:Men's basketball vs. UW-Whitewater
DTSTART:20191127T010000Z
END:VEVENT
END:VCALENDAR
