BEGIN:VCALENDAR
VERSION:2.0
PRODID:-//hacksw/handcal//NONSGML v1.0//EN
CALSCALE:GREGORIAN
BEGIN:VEVENT
DTEND:20191116T010000Z
UID: 69e85cb1ddfca
DTSTAMP:20260422T002921Z
LOCATION:Carver P.E. Center
DESCRIPTION:The men's basketball team will play Alma College at home.\n
URL;VALUE=URI:https://www.augustana.edu/about-us/events/2019/mens-basketball-vs-alma
SUMMARY:Men's basketball vs. Alma
DTSTART:20191116T010000Z
END:VEVENT
END:VCALENDAR
