BEGIN:VCALENDAR
VERSION:2.0
PRODID:-//hacksw/handcal//NONSGML v1.0//EN
CALSCALE:GREGORIAN
BEGIN:VEVENT
DTEND:20191002T183000Z
UID: 69e4eea9185e9
DTSTAMP:20260419T100305Z
LOCATION:Westerlin Residence Center
DESCRIPTION:The Augustana Endowment Society will hear from Special Assistant to President Bahls\,&nbsp\;Kai Swanson\, on "A Neighborhood History." The music department's "Listen and Learn" will follow after.\n\nA brief business meeting will follow with a serving of light refreshments.&nbsp\;\n\nFounded in 1894\, the society is an independent group of friends of the college who contribute to various strategic college initiatives through collection of annual dues and investment in securities. It meets the first Wednesday of each month during the academic year at 1:30 p.m. in the Westerlin Hall lounge.\n
URL;VALUE=URI:https://www.augustana.edu/about-us/events/2019/augustana-endowment-society-neighborhood-history
SUMMARY:Augustana Endowment Society: 'A Neighborhood History' 
DTSTART:20191002T183000Z
END:VEVENT
END:VCALENDAR
