BEGIN:VCALENDAR
VERSION:2.0
PRODID:-//hacksw/handcal//NONSGML v1.0//EN
CALSCALE:GREGORIAN
BEGIN:VEVENT
DTEND:20191110T010000Z
UID: 69e85cb22fe4b
DTSTAMP:20260422T002922Z
LOCATION:Carver P.E. Center
DESCRIPTION:The Augustana Vikings will open their season vs. defending national D3 champion UW-Oshkosh.\n\nThe Titans (29-3) were ranked No. 1 in Street &amp\; Smith's preseason poll and the Vikings were No. 9.\n\nAugustana returns two starters and nine letter winners from last year's 26-4 squad that captured the program's fifth straight CCIW championship and finished with a top-five ranking from D3hoops.com for the fifth consecutive year as well. Neither of those feats had ever been accomplished before.\n
URL;VALUE=URI:https://www.augustana.edu/about-us/events/2019/mens-basketball-vs-university-wisconsin-oshkosh
SUMMARY:Men's basketball vs. University of Wisconsin-Oshkosh
DTSTART:20191110T010000Z
END:VEVENT
END:VCALENDAR
