BEGIN:VCALENDAR
VERSION:2.0
PRODID:-//hacksw/handcal//NONSGML v1.0//EN
CALSCALE:GREGORIAN
BEGIN:VEVENT
DTEND:20191018T003000Z
UID: 69e85dd340797
DTSTAMP:20260422T003411Z
LOCATION:Brunner Theatre Center
DESCRIPTION:"Noises Off" presents a manic menagerie of itinerant actors rehearsing a flop called “Nothing’s On” &nbsp\;in a play-within-a-play.\n\nDoors slamming\, on and offstage intrigue\, and an errant herring all figure in the plot.\n\nThe idea for the 1982 play by English playwright Michael Frayn came when he was watching a performance from the wings and found that view funnier than the front of the house. The title comes from the stage direction indicating sounds coming from offstage.\n\nPerformances will begin at 7:30 p.m. Oct. 17\, 18 and 19\, and at 1:30 p.m. Oct. 20.\n
URL;VALUE=URI:https://www.augustana.edu/about-us/events/2019/noises
SUMMARY:Noises Off
DTSTART:20191018T003000Z
END:VEVENT
END:VCALENDAR
