BEGIN:VCALENDAR
VERSION:2.0
PRODID:-//hacksw/handcal//NONSGML v1.0//EN
CALSCALE:GREGORIAN
BEGIN:VEVENT
DTEND:20191117T200000Z
UID: 69e8705b82a45
DTSTAMP:20260422T015315Z
LOCATION:Centennial Hall
DESCRIPTION:The Augustana Concert Band will take listeners on a&nbsp\;light-hearted journey through folk songs and other wind-band favorites.\n\nProgram\n\n•&nbsp\;Swashbuckler by Julie Giroux\n•&nbsp\;Seventeen Come Sunday by Ralph Vaughan Williams\n•&nbsp\;Satiric Dances by Norman Dello Joio\n•&nbsp\;Ye Banks and Braes O' Bonnie Doon by Percy Grainger\n•&nbsp\;Conga Del Nuevo Fuego by Arturo Marquez\n&nbsp\;\n\nThe Augustana Concert Band is the largest music ensemble at the college.\n\nFormed more than 30 years ago\, the Augustana Concert Band provides an opportunity for students who play in the Symphonic Band or Symphony Orchestra\, or who sing in one of the choirs\, to perform on a second instrument.\n
URL;VALUE=URI:https://www.augustana.edu/about-us/events/2019/augustana-concert-band-folks-songs-and-favorites
SUMMARY:Augustana Concert Band: folks songs and favorites
DTSTART:20191117T200000Z
END:VEVENT
END:VCALENDAR
