BEGIN:VCALENDAR
VERSION:2.0
PRODID:-//hacksw/handcal//NONSGML v1.0//EN
CALSCALE:GREGORIAN
BEGIN:VEVENT
DTEND:20190911T133000Z
UID: 69e860d57bde0
DTSTAMP:20260422T004701Z
LOCATION:Bahls Campus Leadership Center
DESCRIPTION:Today is the 18th anniversary of the terrorist attacks of 9/11. Ascension Chapel will be open all day for reflection and prayer. The 9&nbsp\;p.m. chapel service will include prayer for all those affected by the events of Sept.&nbsp\;11\, 2001.&nbsp\;\n\nA joint declaration of Congress approved in December 2001 designates Sept.&nbsp\;11 as Patriot Day and calls upon the people of the United States to observe a moment of silence in honor of the individuals who lost their lives as a result of the terrorist attacks against the United States.\n
URL;VALUE=URI:https://www.augustana.edu/about-us/events/2019/patriot-day-reflection-and-service
SUMMARY:Patriot Day reflection and service
DTSTART:20190911T133000Z
END:VEVENT
END:VCALENDAR
