BEGIN:VCALENDAR
VERSION:2.0
PRODID:-//hacksw/handcal//NONSGML v1.0//EN
CALSCALE:GREGORIAN
BEGIN:VEVENT
DTEND:20211016T170000Z
UID: 69e8608be9c62
DTSTAMP:20260422T004547Z
LOCATION:Tennis Courts
DESCRIPTION:The women's tennis team will take on Millikin University at home in a CCIW contest.\n
URL;VALUE=URI:https://www.augustana.edu/about-us/events/2021/womens-tennis-vs-millikin
SUMMARY:Women's tennis vs. Millikin
DTSTART:20211016T170000Z
END:VEVENT
END:VCALENDAR
