BEGIN:VCALENDAR
VERSION:2.0
PRODID:-//hacksw/handcal//NONSGML v1.0//EN
CALSCALE:GREGORIAN
BEGIN:VEVENT
DTEND:20170405T000000Z
UID: 69e95d75ad9bc
DTSTAMP:20260422T184453Z
LOCATION:Denkmann Memorial Building
DESCRIPTION:Allison Seay will read from her poetry as part of the River Readings series.\n\nSeay earned an master of fine arts in poetry from the University of North Carolina at Greensboro in&nbsp\;2005.\n\nShe is the author of "To See the Queen\," winner of the 2012 Lexi Rudnitsky First Book Prize in Poetry. She has published poems in&nbsp\;Harvard Review\, Mississippi Review\, Poetry\, and other journals\, and is the recipient of fellowships from the Ruth Lilly Foundation and the National Endowment for the Arts. She lives in Richmond\, Virginia.\n\nThe River Readings series is sponsored by the Office of Academic Affairs\, the Institute for&nbsp\;Leadership and Service\, the Thomas Tredway Library and the English Department.\n
URL;VALUE=URI:https://www.augustana.edu/about-us/events/2016/river-readings-allison-seay
SUMMARY:River Readings: Allison Seay
DTSTART:20170405T000000Z
END:VEVENT
END:VCALENDAR
