BEGIN:VCALENDAR
VERSION:2.0
PRODID:-//hacksw/handcal//NONSGML v1.0//EN
CALSCALE:GREGORIAN
BEGIN:VEVENT
DTEND:20170317T230000Z
UID: 69e94192551dd
DTSTAMP:20260422T164554Z
LOCATION:Brunner Theatre Center
DESCRIPTION:"How the Trumpet Got Its Toot" shows how the young and idealistic Trumpet finds his voice\, discovering his place in the musical world. Along the way\, the audience is introduced to all the instruments of the orchestra.\n\nRepeat performances at 2 p.m. Saturday and Sunday.\n\nThe opera is based on a story by Ronald Kidd.\n
URL;VALUE=URI:https://www.augustana.edu/about-us/events/2016/operaaugustana-how-trumpet-got-its-toot
SUMMARY:Opera@Augustana: How the Trumpet Got Its Toot
DTSTART:20170317T230000Z
END:VEVENT
END:VCALENDAR
