BEGIN:VCALENDAR
VERSION:2.0
PRODID:-//hacksw/handcal//NONSGML v1.0//EN
CALSCALE:GREGORIAN
BEGIN:VEVENT
DTEND:20170521T000000Z
UID: 69e9414a8b3e1
DTSTAMP:20260422T164442Z
LOCATION:Centennial Hall
DESCRIPTION:This concert will feature performances by the Augustana Choir\, the Augustana Symphonic Band and the Augustana Symphony Orchestra.&nbsp\;\n\nProgram\n\nAugustana Symphony Orchestra\n\nSymphony No. 5 in C minor\, Op. 67 (1808)\n&nbsp\;Ludwig Van Beethoven (1770-1827)\nI.&nbsp\;&nbsp\; &nbsp\;Allegro con brio&nbsp\;\nIII. Allegro&nbsp\;\nIV. Allegro &nbsp\;\n\nAugustana Symphonic Band\n\nWild Blue Yonder (2006)\nJames Barnes\n\n&nbsp\;After the Thunderer from&nbsp\;Symphony on Themes of John Philip Sousa&nbsp\;(1994) \nIra Hearshen\n&nbsp\;&nbsp\; &nbsp\;&nbsp\;&nbsp\; &nbsp\;&nbsp\;&nbsp\; &nbsp\;&nbsp\;&nbsp\; &nbsp\;&nbsp\;&nbsp\; &nbsp\;&nbsp\;&nbsp\; &nbsp\;&nbsp\;&nbsp\; &nbsp\;&nbsp\;&nbsp\; &nbsp\;\nSymphony No. 7&nbsp\;(2004)&nbsp\;&nbsp\; &nbsp\;&nbsp\;&nbsp\; &nbsp\;&nbsp\;&nbsp\; &nbsp\;&nbsp\;&nbsp\; &nbsp\;\nDavid Maslanka\nIII. Very fast\n\nAugustana Choir\n\nSure On This Shining Night\nMorten Lauridsen\n\nSong from Yi-Meng Mountain\narr. Zhang Yi-Da\n\nShenandoah\narr. James Erb\n\nCells Planets\narr. Vince Peterson\n\nMiniyama Nayo\nPaul John Rudoi\n\nSoon Ah Will Be Done \narr. William L. Dawson\n
URL;VALUE=URI:https://www.augustana.edu/about-us/events/2016/music-festival-concert
SUMMARY:Music Festival Concert
DTSTART:20170521T000000Z
END:VEVENT
END:VCALENDAR
