BEGIN:VCALENDAR
VERSION:2.0
PRODID:-//hacksw/handcal//NONSGML v1.0//EN
CALSCALE:GREGORIAN
BEGIN:VEVENT
DTEND:20170514T010000Z
UID: 69e94120b8a43
DTSTAMP:20260422T164400Z
LOCATION:Centennial Hall
DESCRIPTION:The Augustana Symphony Orchestra will perform its spring concert\, "The Power of Fate."&nbsp\;\n\nThe performance will be&nbsp\;an exploration of three musical treatments of fate\, including Verdi's dramatic overture to the opera "La Forza del Destino\," Tchaikovsky's romantic depiction of Shakespeare's ill-fated lovers in his "Romeo and Juliet" overture\,&nbsp\;and Beethoven's groundbreaking Symphony No. 5.&nbsp\;\n
URL;VALUE=URI:https://www.augustana.edu/about-us/events/2016/augustana-symphony-orchestra-concert-power-fate
SUMMARY:Augustana Symphony Orchestra Concert: The Power of Fate
DTSTART:20170514T010000Z
END:VEVENT
END:VCALENDAR
