BEGIN:VCALENDAR
VERSION:2.0
PRODID:-//hacksw/handcal//NONSGML v1.0//EN
CALSCALE:GREGORIAN
BEGIN:VEVENT
DTEND:20170513T190000Z
UID: 69e9416e76942
DTSTAMP:20260422T164518Z
LOCATION:Centennial Hall
DESCRIPTION:The Augustana Concert and Symphonic Bands present their final performances of the year. This performance will feature student-composed works:&nbsp\;Brian Hinkley's "Paragon" and Monica Gil's "On Alabaster Wings".&nbsp\;\n
URL;VALUE=URI:https://www.augustana.edu/about-us/events/2016/augustana-bands-concert
SUMMARY:Augustana Bands Concert
DTSTART:20170513T190000Z
END:VEVENT
END:VCALENDAR
