BEGIN:VCALENDAR
VERSION:2.0
PRODID:-//hacksw/handcal//NONSGML v1.0//EN
CALSCALE:GREGORIAN
BEGIN:VEVENT
DTEND:20170511T010000Z
UID: 69e941b6e51d9
DTSTAMP:20260422T164630Z
LOCATION:
DESCRIPTION:Augustana's jazz combos perform their final concert of the academic year.\n
URL;VALUE=URI:https://www.augustana.edu/about-us/events/2016/jazz-combos-concert
SUMMARY:Jazz Combos Concert
DTSTART:20170511T010000Z
END:VEVENT
END:VCALENDAR
