BEGIN:VCALENDAR
VERSION:2.0
PRODID:-//hacksw/handcal//NONSGML v1.0//EN
CALSCALE:GREGORIAN
BEGIN:VEVENT
DTEND:20190908T180000Z
UID: 69e85e02e8fff
DTSTAMP:20260422T003458Z
LOCATION:Anderson Pavilion
DESCRIPTION:Chill on the Hill has been canceled due to rain.\n
URL;VALUE=URI:https://www.augustana.edu/about-us/events/2019/chill-hill-canceled
SUMMARY:Chill on the Hill canceled
DTSTART:20190908T180000Z
END:VEVENT
END:VCALENDAR
