BEGIN:VCALENDAR
VERSION:2.0
PRODID:-//hacksw/handcal//NONSGML v1.0//EN
CALSCALE:GREGORIAN
BEGIN:VEVENT
DTEND:20170506T010000Z
UID: 69e941925666c
DTSTAMP:20260422T164554Z
LOCATION:Centennial Hall
DESCRIPTION:The Augustana Jazz Ensemble will present its spring performance\, including music from the Bond films.\n\nProgram\n\nIt’s Not Polite To Point — Gordon Goodwin\nI’ll Be Seeing You — Kahal &amp\; Fain\n‘Tain’t What You Do — Sy Oliver &amp\; James Young\, trans: Collins\nLetter From Home — Pat Methany\, arr: Curnow\nDream of the Return — Pat Methany\, arr: Curnow\nJames Bond Theme — Monty Norman\, arr: Kristensen\nFrom Russia With Love — Lionel Bart\, trans\; Kock &amp\; Riis\nLive and Let Die — Paul and Linda McCartney\, arr: Curnow\nOne Mint Julep — Toombs\, arr: Baylock\nCold Duck Time — Harris\, arr: Baylock\n
URL;VALUE=URI:https://www.augustana.edu/about-us/events/2016/augustana-jazz-ensemble-concert-bond-and-more
SUMMARY:Augustana Jazz Ensemble Concert: Bond and more
DTSTART:20170506T010000Z
END:VEVENT
END:VCALENDAR
