BEGIN:VCALENDAR
VERSION:2.0
PRODID:-//hacksw/handcal//NONSGML v1.0//EN
CALSCALE:GREGORIAN
BEGIN:VEVENT
DTEND:20191026T180000Z
UID: 69e85e26ea025
DTSTAMP:20260422T003534Z
LOCATION:Thorson-Lucken Field
DESCRIPTION:The women's soccer team will play the Elmhurst College Bluejays&nbsp\;in a conference matchup.\n\nThe Vikings&nbsp\; are 8-3-2 on the year and 3-3 in the College Conference of Illinois &amp\; Wisconsin.\n
URL;VALUE=URI:https://www.augustana.edu/about-us/events/2019/womens-soccer-vs-elmhurst
SUMMARY:Women's soccer vs. Elmhurst
DTSTART:20191026T180000Z
END:VEVENT
END:VCALENDAR
